BEGIN:VCALENDAR
VERSION:2.0
PRODID:-//Māori Movement - ECPv4.5.1//NONSGML v1.0//EN
CALSCALE:GREGORIAN
METHOD:PUBLISH
X-WR-CALNAME:Māori Movement
X-ORIGINAL-URL:http://www.maorimovement.co.nz
X-WR-CALDESC:Events for Māori Movement
BEGIN:VEVENT
DTSTART;VALUE=DATE:20171201
DTEND;VALUE=DATE:20171202
DTSTAMP:20260424T112819
CREATED:20170517T211608Z
LAST-MODIFIED:20170526T041129Z
UID:30276-1512086400-1512259199@www.maorimovement.co.nz
SUMMARY:EUROPE\, BARCELONA - MĀORI MOVEMENT CERTIFICATE PROGRAM
DESCRIPTION:NAU MAI\, HAERE MAI - WELCOME TO OUR MĀORI MOVEMENT AFFILIATE PROGRAMME!\nOur Māori Movement Affiliate programme is designed to qualify high quality Practitioner's specialising in Māori Movement. Enabling them to have the ability to inspire the health and wellbeing of their communities. So this year we will be running a Level 1 Certificate in Māori Movement and a 45min Open Class in Barcelona\, Tickets will sell fast so book your spot below and we'll see you there.\nSTRUCTURED CERTIFIED LEVELS:\n\n \tLevel 1 Certificate in Movement Technique (2 Day Workshop)\n \tLevel 2 Certificate in Basic Level Teaching (3 Day Workshop)\n \tLevel 3 Fully Qualified Trainer (3 Day Workshop)\n \tLevel 4 Advanced Trainer of Maori Movement (7 Day Intensive Workshop)\n \tLevel 5 Master of Maori Movement (7 Day Intensive Workshop)\n\nMĀORI MOVEMENT CERTIFICATION (Level 1) CRITERIA:\n\n \tCompletion of all level 1 modules\n \tCompletion of the scheduled workshops\n \tFull payment by 25 September 2017 (Be sure to book in asap or you could lose your position)\n \tLevel 1 Certificate course $750.00 NZD - €466.00 EURO (2 Day Event) @ Te Aroha Art School\n \tOpen class $45.00 NZD = €28.20 EURO Saturday Dec 2nd @ Espai Cosmos Studios\n\nSubscribe to our Māori Movement website: http://www.maorimovement.co.nz  to get a heads up and prepare for the Māori Movement level 1 certified programme.\n\n \n\nhttps://www.youtube.com/watch?v=bSQLAGU0Usc
URL:http://www.maorimovement.co.nz/event/europe-affiliate-programme
LOCATION:Carrer Pere IV nr 29\, Local 7-4\, Barcelona \, Barcelona \, 08018\, Spain
END:VEVENT
END:VCALENDAR